BEGIN:VCALENDAR
VERSION:2.0
PRODID:-//wp-events-plugin.com//7.2.3.1//EN
TZID:Europe/Berlin
X-WR-TIMEZONE:Europe/Berlin
BEGIN:VEVENT
UID:13@nv-rostock.de
DTSTART;TZID=Europe/Berlin:20250909T180000
DTEND;TZID=Europe/Berlin:20250909T200000
DTSTAMP:20250112T183411Z
URL:https://nv-rostock.de/events/september25/
SUMMARY:Falk Zachau im Gespräch: Was macht eigentlich ein Hafenkapitän?
DESCRIPTION:Was macht eigentlich ein Hafenkapitän? Das erklärt uns Hafenk
 apitän Falk Zachau am besten selbst. In einem Vortrag berichtet er aus se
 inem Berufsalltag.\n\nOffene Veranstaltung für alle nautisch Interessiert
 en. Los geht es um 18 Uhr im Studentenclub Sumpf.\n\n&nbsp\;
CATEGORIES:Vortrag
LOCATION:Studentenclub Sumpf e.V.\, Richard-Wagner-Straße 31\, Rostock\, 1
 8119\, Deutschland
X-APPLE-STRUCTURED-LOCATION;VALUE=URI;X-ADDRESS=Richard-Wagner-Straße 31\,
  Rostock\, 18119\, Deutschland;X-APPLE-RADIUS=100;X-TITLE=Studentenclub Su
 mpf e.V.:geo:0,0
END:VEVENT
BEGIN:VTIMEZONE
TZID:Europe/Berlin
X-LIC-LOCATION:Europe/Berlin
BEGIN:DAYLIGHT
DTSTART:20250330T030000
TZOFFSETFROM:+0100
TZOFFSETTO:+0200
TZNAME:CEST
END:DAYLIGHT
END:VTIMEZONE
END:VCALENDAR